BEGIN:VCALENDAR
VERSION:2.0
PRODID:-//Zwemvereniging De Zilvermeeuw - ECPv6.3.6//NONSGML v1.0//EN
CALSCALE:GREGORIAN
METHOD:PUBLISH
X-WR-CALNAME:Zwemvereniging De Zilvermeeuw
X-ORIGINAL-URL:https://zvdezilvermeeuw.nl
X-WR-CALDESC:Events for Zwemvereniging De Zilvermeeuw
REFRESH-INTERVAL;VALUE=DURATION:PT1H
X-Robots-Tag:noindex
X-PUBLISHED-TTL:PT1H
BEGIN:VTIMEZONE
TZID:Europe/Paris
BEGIN:DAYLIGHT
TZOFFSETFROM:+0100
TZOFFSETTO:+0200
TZNAME:CEST
DTSTART:20230326T010000
END:DAYLIGHT
BEGIN:STANDARD
TZOFFSETFROM:+0200
TZOFFSETTO:+0100
TZNAME:CET
DTSTART:20231029T010000
END:STANDARD
END:VTIMEZONE
BEGIN:VEVENT
DTSTART;TZID=Europe/Paris:20231001T134500
DTEND;TZID=Europe/Paris:20231001T173000
DTSTAMP:20260420T182654
CREATED:20230915T164151Z
LAST-MODIFIED:20230915T164151Z
UID:1558-1696167900-1696181400@zvdezilvermeeuw.nl
SUMMARY:1e Competitiewedstrijd 2023-2024
DESCRIPTION:
URL:https://zvdezilvermeeuw.nl/event/1e-competitiewedstrijd-2023-2024/
ORGANIZER;CN="ZV de Zilvermeeuw":MAILTO:zwem@zvdezilvermeeuw.nl
END:VEVENT
END:VCALENDAR