BEGIN:VCALENDAR
VERSION:2.0
PRODID:-//Zwemvereniging De Zilvermeeuw - ECPv6.3.6//NONSGML v1.0//EN
CALSCALE:GREGORIAN
METHOD:PUBLISH
X-ORIGINAL-URL:https://zvdezilvermeeuw.nl
X-WR-CALDESC:Events for Zwemvereniging De Zilvermeeuw
REFRESH-INTERVAL;VALUE=DURATION:PT1H
X-Robots-Tag:noindex
X-PUBLISHED-TTL:PT1H
BEGIN:VTIMEZONE
TZID:Europe/Paris
BEGIN:DAYLIGHT
TZOFFSETFROM:+0100
TZOFFSETTO:+0200
TZNAME:CEST
DTSTART:20230326T010000
END:DAYLIGHT
BEGIN:STANDARD
TZOFFSETFROM:+0200
TZOFFSETTO:+0100
TZNAME:CET
DTSTART:20231029T010000
END:STANDARD
END:VTIMEZONE
BEGIN:VEVENT
DTSTART;TZID=Europe/Paris:20231210T080000
DTEND;TZID=Europe/Paris:20231210T170000
DTSTAMP:20260420T151725
CREATED:20231208T203927Z
LAST-MODIFIED:20231208T204240Z
UID:1688-1702195200-1702227600@zvdezilvermeeuw.nl
SUMMARY:NJK Korte Baan
DESCRIPTION:
URL:https://zvdezilvermeeuw.nl/event/1688/
LOCATION:Pieter van den Hoogenband Zwemstadion\, Antoon Coolenlaan 1\,\, Nederland\, 5644 RX
CATEGORIES:Wedstrijden
END:VEVENT
BEGIN:VEVENT
DTSTART;TZID=Europe/Paris:20231210T123000
DTEND;TZID=Europe/Paris:20231210T163000
DTSTAMP:20260420T151725
CREATED:20231123T110955Z
LAST-MODIFIED:20231123T110955Z
UID:1668-1702211400-1702225800@zvdezilvermeeuw.nl
SUMMARY:Swimkick Minioren deel 3
DESCRIPTION:
URL:https://zvdezilvermeeuw.nl/event/swimkick-minioren-deel-3/
LOCATION:Zwembad de Wisselaar\, Terheijdenseweg 494\, Breda\, 4826 AB\, Netherlands
CATEGORIES:Wedstrijden
ORGANIZER;CN="SBC2000":MAILTO:info@mysbc.nl
END:VEVENT
END:VCALENDAR