BEGIN:VCALENDAR
VERSION:2.0
PRODID:-//Zwemvereniging De Zilvermeeuw - ECPv6.3.6//NONSGML v1.0//EN
CALSCALE:GREGORIAN
METHOD:PUBLISH
X-WR-CALNAME:Zwemvereniging De Zilvermeeuw
X-ORIGINAL-URL:https://zvdezilvermeeuw.nl
X-WR-CALDESC:Events for Zwemvereniging De Zilvermeeuw
REFRESH-INTERVAL;VALUE=DURATION:PT1H
X-Robots-Tag:noindex
X-PUBLISHED-TTL:PT1H
BEGIN:VTIMEZONE
TZID:Europe/Paris
BEGIN:DAYLIGHT
TZOFFSETFROM:+0100
TZOFFSETTO:+0200
TZNAME:CEST
DTSTART:20230326T010000
END:DAYLIGHT
BEGIN:STANDARD
TZOFFSETFROM:+0200
TZOFFSETTO:+0100
TZNAME:CET
DTSTART:20231029T010000
END:STANDARD
END:VTIMEZONE
BEGIN:VEVENT
DTSTART;VALUE=DATE:20231228
DTEND;VALUE=DATE:20231229
DTSTAMP:20260420T151603
CREATED:20231208T210729Z
LAST-MODIFIED:20231208T210734Z
UID:1697-1703721600-1703807999@zvdezilvermeeuw.nl
SUMMARY:36e SPEEDO INTERNATIONAL FRIENDSHIP SWIMMEET
DESCRIPTION:
URL:https://zvdezilvermeeuw.nl/event/36e-speedo-international-friendship-swimmeet/
LOCATION:Geusseltbad Maastricht\, Discusworp 4\, 6225 XP\, Maastricht\, 6225XP
CATEGORIES:Wedstrijden
END:VEVENT
BEGIN:VEVENT
DTSTART;TZID=Europe/Paris:20231228T000000
DTEND;TZID=Europe/Paris:20231228T235900
DTSTAMP:20260420T151603
CREATED:20231219T122649Z
LAST-MODIFIED:20231219T123232Z
UID:1733-1703721600-1703807940@zvdezilvermeeuw.nl
SUMMARY:WIJ ZIJN ER EVEN NIET>>>KLIK HIER
DESCRIPTION:Geen training\, Kerstvakantie tot 6 januari 2024
URL:https://zvdezilvermeeuw.nl/event/1733/
CATEGORIES:Training
END:VEVENT
END:VCALENDAR