BEGIN:VCALENDAR
VERSION:2.0
PRODID:-//Zwemvereniging De Zilvermeeuw - ECPv6.3.6//NONSGML v1.0//EN
CALSCALE:GREGORIAN
METHOD:PUBLISH
X-WR-CALNAME:Zwemvereniging De Zilvermeeuw
X-ORIGINAL-URL:https://zvdezilvermeeuw.nl
X-WR-CALDESC:Events for Zwemvereniging De Zilvermeeuw
REFRESH-INTERVAL;VALUE=DURATION:PT1H
X-Robots-Tag:noindex
X-PUBLISHED-TTL:PT1H
BEGIN:VTIMEZONE
TZID:Europe/Paris
BEGIN:DAYLIGHT
TZOFFSETFROM:+0100
TZOFFSETTO:+0200
TZNAME:CEST
DTSTART:20230326T010000
END:DAYLIGHT
BEGIN:STANDARD
TZOFFSETFROM:+0200
TZOFFSETTO:+0100
TZNAME:CET
DTSTART:20231029T010000
END:STANDARD
END:VTIMEZONE
BEGIN:VEVENT
DTSTART;TZID=Europe/Paris:20231203T085000
DTEND;TZID=Europe/Paris:20231203T095000
DTSTAMP:20260420T104111
CREATED:20231122T114617Z
LAST-MODIFIED:20231122T114617Z
UID:1652-1701593400-1701597000@zvdezilvermeeuw.nl
SUMMARY:Mastertraining deel 2 BC
DESCRIPTION:
URL:https://zvdezilvermeeuw.nl/event/mastertraining-deel-2-bc/
LOCATION:LACO zwembad Hoogerheide\, Sportlaan 4\, 4631 CR Hoogerheide\, Hoogerheide\, Noord Brabant\, 4631 CR\, Netherlands
CATEGORIES:Training
ORGANIZER;CN="ZV de Zilvermeeuw":MAILTO:zwem@zvdezilvermeeuw.nl
END:VEVENT
BEGIN:VEVENT
DTSTART;TZID=Europe/Paris:20231223T000000
DTEND;TZID=Europe/Paris:20231223T235900
DTSTAMP:20260420T104111
CREATED:20231219T120840Z
LAST-MODIFIED:20231219T122111Z
UID:1716-1703289600-1703375940@zvdezilvermeeuw.nl
SUMMARY:WIJ ZIJN ER EVEN NIET>>>KLIK HIER
DESCRIPTION:  \n \nGeen training…Kerstvakantie tot 6 januari 2024
URL:https://zvdezilvermeeuw.nl/event/1716/
CATEGORIES:Training
END:VEVENT
BEGIN:VEVENT
DTSTART;TZID=Europe/Paris:20231224T000000
DTEND;TZID=Europe/Paris:20231224T235900
DTSTAMP:20260420T104111
CREATED:20231219T121342Z
LAST-MODIFIED:20231219T122143Z
UID:1727-1703376000-1703462340@zvdezilvermeeuw.nl
SUMMARY:WIJ ZIJN ER EVEN NIET>>>KLIK HIER
DESCRIPTION:Geen training..Kerstvakantie tot 6 januari 2024
URL:https://zvdezilvermeeuw.nl/event/wij-zijn-er-even-niet-klik-hier/
CATEGORIES:Training
END:VEVENT
BEGIN:VEVENT
DTSTART;TZID=Europe/Paris:20231227T000000
DTEND;TZID=Europe/Paris:20231227T235900
DTSTAMP:20260420T104111
CREATED:20231219T122349Z
LAST-MODIFIED:20231219T123307Z
UID:1730-1703635200-1703721540@zvdezilvermeeuw.nl
SUMMARY:WIJ ZIJN ER EVEN NIET>>>KLIK HIER
DESCRIPTION:Geen training\, Kerstvakantie tot 6 januari 2024
URL:https://zvdezilvermeeuw.nl/event/wij-zijn-er-even-nietklik-hier/
CATEGORIES:Training
END:VEVENT
BEGIN:VEVENT
DTSTART;TZID=Europe/Paris:20231228T000000
DTEND;TZID=Europe/Paris:20231228T235900
DTSTAMP:20260420T104111
CREATED:20231219T122649Z
LAST-MODIFIED:20231219T123232Z
UID:1733-1703721600-1703807940@zvdezilvermeeuw.nl
SUMMARY:WIJ ZIJN ER EVEN NIET>>>KLIK HIER
DESCRIPTION:Geen training\, Kerstvakantie tot 6 januari 2024
URL:https://zvdezilvermeeuw.nl/event/1733/
CATEGORIES:Training
END:VEVENT
BEGIN:VEVENT
DTSTART;TZID=Europe/Paris:20231230T000000
DTEND;TZID=Europe/Paris:20231230T235900
DTSTAMP:20260420T104111
CREATED:20231219T123056Z
LAST-MODIFIED:20231219T123105Z
UID:1737-1703894400-1703980740@zvdezilvermeeuw.nl
SUMMARY:WIJ ZIJN ER EVEN NIET>>>KLIK HIER
DESCRIPTION:Geen training\, Kerstvakantie tot 6 januari 2024
URL:https://zvdezilvermeeuw.nl/event/wij-zijn-er-even-nietklik-hier-2/
CATEGORIES:Training
END:VEVENT
BEGIN:VEVENT
DTSTART;TZID=Europe/Paris:20231231T000000
DTEND;TZID=Europe/Paris:20231231T235900
DTSTAMP:20260420T104111
CREATED:20231219T123714Z
LAST-MODIFIED:20231219T124035Z
UID:1741-1703980800-1704067140@zvdezilvermeeuw.nl
SUMMARY:WIJ ZIJN ER EVEN NIET>>>KLIK HIER
DESCRIPTION:Geen training\, Kerstvakantie tot 6 januari 2024\nFijne Jaarwisseling!!
URL:https://zvdezilvermeeuw.nl/event/wij-zijn-er-even-nietklik-hier-3/
CATEGORIES:Training
END:VEVENT
END:VCALENDAR