BEGIN:VCALENDAR
VERSION:2.0
PRODID:-//Zwemvereniging De Zilvermeeuw - ECPv6.3.6//NONSGML v1.0//EN
CALSCALE:GREGORIAN
METHOD:PUBLISH
X-ORIGINAL-URL:https://zvdezilvermeeuw.nl
X-WR-CALDESC:Events for Zwemvereniging De Zilvermeeuw
REFRESH-INTERVAL;VALUE=DURATION:PT1H
X-Robots-Tag:noindex
X-PUBLISHED-TTL:PT1H
BEGIN:VTIMEZONE
TZID:Europe/Paris
BEGIN:DAYLIGHT
TZOFFSETFROM:+0100
TZOFFSETTO:+0200
TZNAME:CEST
DTSTART:20230326T010000
END:DAYLIGHT
BEGIN:STANDARD
TZOFFSETFROM:+0200
TZOFFSETTO:+0100
TZNAME:CET
DTSTART:20231029T010000
END:STANDARD
END:VTIMEZONE
BEGIN:VEVENT
DTSTART;TZID=Europe/Paris:20231105T150000
DTEND;TZID=Europe/Paris:20231105T183000
DTSTAMP:20260420T152902
CREATED:20231104T121801Z
LAST-MODIFIED:20231104T121900Z
UID:1616-1699196400-1699209000@zvdezilvermeeuw.nl
SUMMARY:Masters Zuidelijke Cirkel
DESCRIPTION:
URL:https://zvdezilvermeeuw.nl/event/masters-zuidelijk-cirkel/
LOCATION:De Banakker\, Parklaan 12\, Etten-Leur\, Noord Brabant\, 4873 ER\, Netherlands
CATEGORIES:Wedstrijden
ORGANIZER;CN="DIO":MAILTO:wedstrijdinschrijving@dioweb.nl
END:VEVENT
BEGIN:VEVENT
DTSTART;TZID=Europe/Paris:20231112T100000
DTEND;TZID=Europe/Paris:20231112T150000
DTSTAMP:20260420T152902
CREATED:20231105T115434Z
LAST-MODIFIED:20231105T214752Z
UID:1620-1699783200-1699801200@zvdezilvermeeuw.nl
SUMMARY:Competitie deel 2
DESCRIPTION:
URL:https://zvdezilvermeeuw.nl/event/competitie-deel-2/
LOCATION:Zwembad Kwekkelstijn\, Sportlaan 16\, Rosmalen\, 5242 CR\, Netherlands
CATEGORIES:Wedstrijden
END:VEVENT
BEGIN:VEVENT
DTSTART;TZID=Europe/Paris:20231126T085000
DTEND;TZID=Europe/Paris:20231126T095000
DTSTAMP:20260420T152902
CREATED:20231121T141341Z
LAST-MODIFIED:20231121T141341Z
UID:1648-1700988600-1700992200@zvdezilvermeeuw.nl
SUMMARY:Mastertraining deel 1 BC
DESCRIPTION:
URL:https://zvdezilvermeeuw.nl/event/mastertraining-deel-1-bc/
LOCATION:LACO zwembad Hoogerheide\, Sportlaan 4\, 4631 CR Hoogerheide\, Hoogerheide\, Noord Brabant\, 4631 CR\, Netherlands
CATEGORIES:Training
ORGANIZER;CN="ZV de Zilvermeeuw":MAILTO:zwem@zvdezilvermeeuw.nl
END:VEVENT
BEGIN:VEVENT
DTSTART;TZID=Europe/Paris:20231126T123000
DTEND;TZID=Europe/Paris:20231126T160000
DTSTAMP:20260420T152902
CREATED:20231106T184907Z
LAST-MODIFIED:20231106T184907Z
UID:1631-1701001800-1701014400@zvdezilvermeeuw.nl
SUMMARY:Limietwedstrijd Breda
DESCRIPTION:
URL:https://zvdezilvermeeuw.nl/event/limietwedstrijd-breda/
LOCATION:Zwembad de Wisselaar\, Terheijdenseweg 494\, Breda\, 4826 AB\, Netherlands
CATEGORIES:Wedstrijden
ORGANIZER;CN="SBC2000":MAILTO:info@mysbc.nl
END:VEVENT
BEGIN:VEVENT
DTSTART;TZID=Europe/Paris:20231126T131500
DTEND;TZID=Europe/Paris:20231126T170000
DTSTAMP:20260420T152902
CREATED:20231106T152649Z
LAST-MODIFIED:20231106T175618Z
UID:1626-1701004500-1701018000@zvdezilvermeeuw.nl
SUMMARY:Masters Zuidelijke Cirkel deel 6
DESCRIPTION:
URL:https://zvdezilvermeeuw.nl/event/masters-zuidelijke-cirkel-deel-6/
LOCATION:Pieter van den Hoogenband Zwemstadion\, Antoon Coolenlaan 1\,\, Nederland\, 5644 RX
CATEGORIES:Wedstrijden
END:VEVENT
BEGIN:VEVENT
DTSTART;TZID=Europe/Paris:20231129T170000
DTEND;TZID=Europe/Paris:20231129T180000
DTSTAMP:20260420T152902
CREATED:20231122T115830Z
LAST-MODIFIED:20231122T205720Z
UID:1655-1701277200-1701280800@zvdezilvermeeuw.nl
SUMMARY:Pietentraining
DESCRIPTION:
URL:https://zvdezilvermeeuw.nl/event/pietentraining/
LOCATION:LACO zwembad Hoogerheide\, Sportlaan 4\, 4631 CR Hoogerheide\, Hoogerheide\, Noord Brabant\, 4631 CR\, Netherlands
CATEGORIES:Training
ORGANIZER;CN="ZV de Zilvermeeuw":MAILTO:zwem@zvdezilvermeeuw.nl
END:VEVENT
END:VCALENDAR