BEGIN:VCALENDAR
VERSION:2.0
PRODID:-//Zwemvereniging De Zilvermeeuw - ECPv6.3.6//NONSGML v1.0//EN
CALSCALE:GREGORIAN
METHOD:PUBLISH
X-WR-CALNAME:Zwemvereniging De Zilvermeeuw
X-ORIGINAL-URL:https://zvdezilvermeeuw.nl
X-WR-CALDESC:Events for Zwemvereniging De Zilvermeeuw
REFRESH-INTERVAL;VALUE=DURATION:PT1H
X-Robots-Tag:noindex
X-PUBLISHED-TTL:PT1H
BEGIN:VTIMEZONE
TZID:Europe/Paris
BEGIN:DAYLIGHT
TZOFFSETFROM:+0100
TZOFFSETTO:+0200
TZNAME:CEST
DTSTART:20240331T010000
END:DAYLIGHT
BEGIN:STANDARD
TZOFFSETFROM:+0200
TZOFFSETTO:+0100
TZNAME:CET
DTSTART:20241027T010000
END:STANDARD
END:VTIMEZONE
BEGIN:VEVENT
DTSTART;TZID=Europe/Paris:20240101T000000
DTEND;TZID=Europe/Paris:20240101T235900
DTSTAMP:20260420T120219
CREATED:20231219T124602Z
LAST-MODIFIED:20231219T125123Z
UID:1749-1704067200-1704153540@zvdezilvermeeuw.nl
SUMMARY:GELUKKIG NIEUWJAAR  Klik Hier
DESCRIPTION:Gelukkig Nieuwjaar!!
URL:https://zvdezilvermeeuw.nl/event/1749/
END:VEVENT
BEGIN:VEVENT
DTSTART;TZID=Europe/Paris:20240103T000000
DTEND;TZID=Europe/Paris:20240103T235900
DTSTAMP:20260420T120219
CREATED:20231219T124420Z
LAST-MODIFIED:20231219T125806Z
UID:1747-1704240000-1704326340@zvdezilvermeeuw.nl
SUMMARY:WIJ ZIJN ER NOG EVEN NIET>>>KLIK HIER
DESCRIPTION:Geen training\, zaterdag 6 januari zijn we er weer voor de jeugd.
URL:https://zvdezilvermeeuw.nl/event/wij-zijn-er-even-nietklik-hier-4/
CATEGORIES:Training
END:VEVENT
BEGIN:VEVENT
DTSTART;TZID=Europe/Paris:20240104T000000
DTEND;TZID=Europe/Paris:20240104T235900
DTSTAMP:20260420T120219
CREATED:20231219T125431Z
LAST-MODIFIED:20231219T125722Z
UID:1755-1704326400-1704412740@zvdezilvermeeuw.nl
SUMMARY:WIJ ZIJN ER NOG EVEN NIET>>>KLIK HIER
DESCRIPTION:Geen training\, zondag 7 januari zijn we er weer voor onze 18 plussers!!
URL:https://zvdezilvermeeuw.nl/event/wij-zijn-er-nog-even-nietklik-hier/
CATEGORIES:Training
END:VEVENT
BEGIN:VEVENT
DTSTART;TZID=Europe/Paris:20240106T160000
DTEND;TZID=Europe/Paris:20240106T170000
DTSTAMP:20260420T120219
CREATED:20231219T131143Z
LAST-MODIFIED:20231219T131228Z
UID:1758-1704556800-1704560400@zvdezilvermeeuw.nl
SUMMARY:1e Training 2024 voor de jeugd  klik hier X
DESCRIPTION:We springen er weer in
URL:https://zvdezilvermeeuw.nl/event/1e-training-2024-voor-de-jeugd/
LOCATION:LACO zwembad Hoogerheide\, Sportlaan 4\, 4631 CR Hoogerheide\, Hoogerheide\, Noord Brabant\, 4631 CR\, Netherlands
CATEGORIES:Training
END:VEVENT
BEGIN:VEVENT
DTSTART;TZID=Europe/Paris:20240107T085000
DTEND;TZID=Europe/Paris:20240107T095000
DTSTAMP:20260420T120219
CREATED:20231219T131457Z
LAST-MODIFIED:20231219T131551Z
UID:1763-1704617400-1704621000@zvdezilvermeeuw.nl
SUMMARY:1e Training voor 18-pluszwemmers klik hier X
DESCRIPTION:We kunnen weer!!
URL:https://zvdezilvermeeuw.nl/event/1e-training-voor-18-plussers-klik-hier-x/
LOCATION:LACO zwembad Hoogerheide\, Sportlaan 4\, 4631 CR Hoogerheide\, Hoogerheide\, Noord Brabant\, 4631 CR\, Netherlands
CATEGORIES:Training
END:VEVENT
BEGIN:VEVENT
DTSTART;TZID=Europe/Paris:20240113T080000
DTEND;TZID=Europe/Paris:20240113T170000
DTSTAMP:20260420T120219
CREATED:20240115T134334Z
LAST-MODIFIED:20240115T134359Z
UID:1795-1705132800-1705165200@zvdezilvermeeuw.nl
SUMMARY:BWK dag 1
DESCRIPTION:
URL:https://zvdezilvermeeuw.nl/event/1795/
LOCATION:Zwembad de Driebucht\, Wagnerplein 1\, Tilburg\, 5011 LP
ORGANIZER;CN="Hieronymus":MAILTO:info@zpv-hieronymus.com
END:VEVENT
BEGIN:VEVENT
DTSTART;TZID=Europe/Paris:20240114T080000
DTEND;TZID=Europe/Paris:20240114T170000
DTSTAMP:20260420T120219
CREATED:20240115T134129Z
LAST-MODIFIED:20240115T134226Z
UID:1791-1705219200-1705251600@zvdezilvermeeuw.nl
SUMMARY:BWK Dag 2
DESCRIPTION:
URL:https://zvdezilvermeeuw.nl/event/bwk-dag-1/
LOCATION:Zwembad de Driebucht\, Wagnerplein 1\, Tilburg\, 5011 LP
ORGANIZER;CN="Hieronymus":MAILTO:info@zpv-hieronymus.com
END:VEVENT
BEGIN:VEVENT
DTSTART;TZID=Europe/Paris:20240120T120000
DTEND;TZID=Europe/Paris:20240120T180000
DTSTAMP:20260420T120219
CREATED:20240115T135054Z
LAST-MODIFIED:20240115T135054Z
UID:1798-1705752000-1705773600@zvdezilvermeeuw.nl
SUMMARY:BWK 2e weekend dag 1
DESCRIPTION:
URL:https://zvdezilvermeeuw.nl/event/bwk-2e-weekend-dag-1/
LOCATION:Pieter van den Hoogenband Zwemstadion\, Antoon Coolenlaan 1\,\, Nederland\, 5644 RX
ORGANIZER;CN="Hieronymus":MAILTO:info@zpv-hieronymus.com
END:VEVENT
BEGIN:VEVENT
DTSTART;TZID=Europe/Paris:20240121T120000
DTEND;TZID=Europe/Paris:20240121T180000
DTSTAMP:20260420T120219
CREATED:20240115T135216Z
LAST-MODIFIED:20240115T135242Z
UID:1800-1705838400-1705860000@zvdezilvermeeuw.nl
SUMMARY:BWK 2e weekend dag 2
DESCRIPTION:
URL:https://zvdezilvermeeuw.nl/event/bwk-2e-weekend-dag-2/
LOCATION:Pieter van den Hoogenband Zwemstadion\, Antoon Coolenlaan 1\,\, Nederland\, 5644 RX
ORGANIZER;CN="Hieronymus":MAILTO:info@zpv-hieronymus.com
END:VEVENT
BEGIN:VEVENT
DTSTART;TZID=Europe/Paris:20240128T133000
DTEND;TZID=Europe/Paris:20240128T180000
DTSTAMP:20260420T120219
CREATED:20240115T135547Z
LAST-MODIFIED:20240115T135547Z
UID:1802-1706448600-1706464800@zvdezilvermeeuw.nl
SUMMARY:Competitie deel 3
DESCRIPTION:
URL:https://zvdezilvermeeuw.nl/event/competitie-deel-3/
LOCATION:Zwembad De Schelp\, Bergen op Zoom\, Netherlands
END:VEVENT
END:VCALENDAR