BEGIN:VCALENDAR
VERSION:2.0
PRODID:-//Zwemvereniging De Zilvermeeuw - ECPv6.3.6//NONSGML v1.0//EN
CALSCALE:GREGORIAN
METHOD:PUBLISH
X-WR-CALNAME:Zwemvereniging De Zilvermeeuw
X-ORIGINAL-URL:https://zvdezilvermeeuw.nl
X-WR-CALDESC:Events for Zwemvereniging De Zilvermeeuw
REFRESH-INTERVAL;VALUE=DURATION:PT1H
X-Robots-Tag:noindex
X-PUBLISHED-TTL:PT1H
BEGIN:VTIMEZONE
TZID:Europe/Paris
BEGIN:DAYLIGHT
TZOFFSETFROM:+0100
TZOFFSETTO:+0200
TZNAME:CEST
DTSTART:20220327T010000
END:DAYLIGHT
BEGIN:STANDARD
TZOFFSETFROM:+0200
TZOFFSETTO:+0100
TZNAME:CET
DTSTART:20221030T010000
END:STANDARD
END:VTIMEZONE
BEGIN:VEVENT
DTSTART;VALUE=DATE:20220424
DTEND;VALUE=DATE:20220425
DTSTAMP:20260425T151954
CREATED:20220412T074608Z
LAST-MODIFIED:20220706T113830Z
UID:1257-1650758400-1650844799@zvdezilvermeeuw.nl
SUMMARY:KNZB Competitie deel 5 (finale)
DESCRIPTION:Voor alle wedstrijdzwemmers
URL:https://zvdezilvermeeuw.nl/event/knzb-competitie-deel-5-finale/
LOCATION:Zwembad De Schelp\, Bergen op Zoom\, Netherlands
CATEGORIES:Wedstrijden
ATTACH;FMTTYPE=image/png:https://zvdezilvermeeuw.nl/wp-content/uploads/2022/04/weblogo-de-schelp.height-150.png
END:VEVENT
END:VCALENDAR