BEGIN:VCALENDAR
VERSION:2.0
PRODID:-//Zwemvereniging De Zilvermeeuw - ECPv6.3.6//NONSGML v1.0//EN
CALSCALE:GREGORIAN
METHOD:PUBLISH
X-WR-CALNAME:Zwemvereniging De Zilvermeeuw
X-ORIGINAL-URL:https://zvdezilvermeeuw.nl
X-WR-CALDESC:Events for Zwemvereniging De Zilvermeeuw
REFRESH-INTERVAL;VALUE=DURATION:PT1H
X-Robots-Tag:noindex
X-PUBLISHED-TTL:PT1H
BEGIN:VTIMEZONE
TZID:Europe/Paris
BEGIN:DAYLIGHT
TZOFFSETFROM:+0100
TZOFFSETTO:+0200
TZNAME:CEST
DTSTART:20220327T010000
END:DAYLIGHT
BEGIN:STANDARD
TZOFFSETFROM:+0200
TZOFFSETTO:+0100
TZNAME:CET
DTSTART:20221030T010000
END:STANDARD
END:VTIMEZONE
BEGIN:VEVENT
DTSTART;VALUE=DATE:20220514
DTEND;VALUE=DATE:20220515
DTSTAMP:20260425T133826
CREATED:20220412T075606Z
LAST-MODIFIED:20220706T113753Z
UID:1263-1652486400-1652572799@zvdezilvermeeuw.nl
SUMMARY:Zuid-Nederlandse Kampioenschappen LB (zaterdag)
DESCRIPTION:Toegang voor zwemmers met oprechte deelname
URL:https://zvdezilvermeeuw.nl/event/zuid-nederlandse-kampioenschappen-lb/
LOCATION:Zwembad De Tongelreep\, Eindhoven\, Netherlands
CATEGORIES:Wedstrijden
ATTACH;FMTTYPE=image/jpeg:https://zvdezilvermeeuw.nl/wp-content/uploads/2022/04/Logo-eindhovensport.jpg
END:VEVENT
BEGIN:VEVENT
DTSTART;VALUE=DATE:20220515
DTEND;VALUE=DATE:20220516
DTSTAMP:20260425T133826
CREATED:20220412T080302Z
LAST-MODIFIED:20220706T113727Z
UID:1270-1652572800-1652659199@zvdezilvermeeuw.nl
SUMMARY:Zuid-Nederlandse Kampioenschappen LB (zondag)
DESCRIPTION:Toegang voor alle wedstrijdzwemmers
URL:https://zvdezilvermeeuw.nl/event/zuid-nederlandse-kampioenschappen-lb-zondag/
LOCATION:Zwembad De Tongelreep\, Eindhoven\, Netherlands
CATEGORIES:Wedstrijden
ATTACH;FMTTYPE=image/jpeg:https://zvdezilvermeeuw.nl/wp-content/uploads/2022/04/Logo-eindhovensport.jpg
END:VEVENT
END:VCALENDAR